BEGIN:VCALENDAR
VERSION:2.0
PRODID:-//museumsfernsehen - ECPv6.15.20//NONSGML v1.0//EN
CALSCALE:GREGORIAN
METHOD:PUBLISH
X-ORIGINAL-URL:https://www.museumsfernsehen.de
X-WR-CALDESC:Veranstaltungen für museumsfernsehen
REFRESH-INTERVAL;VALUE=DURATION:PT1H
X-Robots-Tag:noindex
X-PUBLISHED-TTL:PT1H
BEGIN:VTIMEZONE
TZID:Europe/Berlin
BEGIN:DAYLIGHT
TZOFFSETFROM:+0100
TZOFFSETTO:+0200
TZNAME:CEST
DTSTART:20250330T010000
END:DAYLIGHT
BEGIN:STANDARD
TZOFFSETFROM:+0200
TZOFFSETTO:+0100
TZNAME:CET
DTSTART:20251026T010000
END:STANDARD
BEGIN:DAYLIGHT
TZOFFSETFROM:+0100
TZOFFSETTO:+0200
TZNAME:CEST
DTSTART:20260329T010000
END:DAYLIGHT
BEGIN:STANDARD
TZOFFSETFROM:+0200
TZOFFSETTO:+0100
TZNAME:CET
DTSTART:20261025T010000
END:STANDARD
BEGIN:DAYLIGHT
TZOFFSETFROM:+0100
TZOFFSETTO:+0200
TZNAME:CEST
DTSTART:20270328T010000
END:DAYLIGHT
BEGIN:STANDARD
TZOFFSETFROM:+0200
TZOFFSETTO:+0100
TZNAME:CET
DTSTART:20271031T010000
END:STANDARD
END:VTIMEZONE
BEGIN:VEVENT
DTSTART;TZID=Europe/Berlin:20260519T190000
DTEND;TZID=Europe/Berlin:20260519T190000
DTSTAMP:20260425T184527
CREATED:20260413T115951Z
LAST-MODIFIED:20260413T115957Z
UID:114265-1779217200-1779217200@www.museumsfernsehen.de
SUMMARY:Forever young? Jugend-Kult vs. alternde Gesellschaft
DESCRIPTION:Straff\, sportlich\, leistungsfähig – wenn wir der Werbung Glauben schenken\, will niemand alt werden. Ewige Jugend scheint das neue Ideal zu sein. Demgegenüber steht die harte Realität: Der demografische Wandel lässt unsere Gesellschaft altern. Sind diese beiden Extreme ein Widerspruch? Besteht womöglich ein Zusammenhang? Auch die Science-Fiction kennt utopische Welten\, in der niemand mehr die Bürden des Alters tragen muss. Aber ist das ein erstrebenswertes Zukunftsszenario? Ließe es sich überhaupt erreichen oder ist Altern eine biologische und gesellschaftliche Notwendigkeit? \n\n\n\nIm Zukunftsplausch am 19. Mai diskutieren wir mit Expertinnen und Experten aus den Bereichen Sportwissenschaft und Gerontologie\, Medizin und Medizinethik sowie Kulturanthropologie\, ob wir in Zukunft noch alt werden (wollen). Diskutieren Sie mit! \n\n\n\nGäste:  \n\n\n\n\nDr. Anamaria Depner (Kulturanthropologie\, Goethe-Universität Frankfurt am Main)\n\n\n\nPD Dr. Ellen Freiberger (Friedrich-Alexander-Universität Erlangen-Nürnberg)\n\n\n\nProf. Dr. Andreas Frewer (Friedrich-Alexander-Universität Erlangen-Nürnberg)\n\n\n\n\nModeration: Dagny Müller (Deutsches Museum Nürnberg) \n\n\nDiskussionsveranstaltung\, Livestream
URL:https://www.museumsfernsehen.de/termin/forever-young-jugend-kult-vs-alternde-gesellschaft/
CATEGORIES:Diskussionsveranstaltung,Livestream
ATTACH;FMTTYPE=image/jpeg:https://www.museumsfernsehen.de/wp-content/uploads/2026/02/Deutsches-Museum-Livvestream.jpg
END:VEVENT
END:VCALENDAR