BEGIN:VCALENDAR
VERSION:2.0
PRODID:-//museumsfernsehen - ECPv6.15.20//NONSGML v1.0//EN
CALSCALE:GREGORIAN
METHOD:PUBLISH
X-ORIGINAL-URL:https://www.museumsfernsehen.de
X-WR-CALDESC:Veranstaltungen für museumsfernsehen
REFRESH-INTERVAL;VALUE=DURATION:PT1H
X-Robots-Tag:noindex
X-PUBLISHED-TTL:PT1H
BEGIN:VTIMEZONE
TZID:Europe/Berlin
BEGIN:DAYLIGHT
TZOFFSETFROM:+0100
TZOFFSETTO:+0200
TZNAME:CEST
DTSTART:20250330T010000
END:DAYLIGHT
BEGIN:STANDARD
TZOFFSETFROM:+0200
TZOFFSETTO:+0100
TZNAME:CET
DTSTART:20251026T010000
END:STANDARD
BEGIN:DAYLIGHT
TZOFFSETFROM:+0100
TZOFFSETTO:+0200
TZNAME:CEST
DTSTART:20260329T010000
END:DAYLIGHT
BEGIN:STANDARD
TZOFFSETFROM:+0200
TZOFFSETTO:+0100
TZNAME:CET
DTSTART:20261025T010000
END:STANDARD
BEGIN:DAYLIGHT
TZOFFSETFROM:+0100
TZOFFSETTO:+0200
TZNAME:CEST
DTSTART:20270328T010000
END:DAYLIGHT
BEGIN:STANDARD
TZOFFSETFROM:+0200
TZOFFSETTO:+0100
TZNAME:CET
DTSTART:20271031T010000
END:STANDARD
END:VTIMEZONE
BEGIN:VEVENT
DTSTART;TZID=Europe/Berlin:20260505T183000
DTEND;TZID=Europe/Berlin:20260505T183000
DTSTAMP:20260426T001019
CREATED:20260414T080224Z
LAST-MODIFIED:20260414T080442Z
UID:114385-1778005800-1778005800@www.museumsfernsehen.de
SUMMARY:Paradaidha: Leibliche Präsenz in einer beschleunigten Welt
DESCRIPTION:«Leibliche Präsenz in einer beschleunigten Welt»Je schneller und flüchtiger unsere moderne Welt wird\, desto mehr sehnen wir uns nach echter leiblicher Präsenz und spürbarer Verwurzelung. Zu diesem Thema begrüßen wir Prof. Dr. Dr. Thomas Fuchs\, Karl-Jaspers-Professor für Philosophische Grundlagen der Psychiatrie und Psychotherapie. Als Sektionsleiter für Phänomenologische Psychopathologie und Vorsitzender der DGAP bringt er ausgewiesene Expertise mit\, um diesen existenziellen Rückzugsort zu beleuchten. \n\n\n\nEine Veranstaltungsreihe der Evangelischen Stadtakademie in Korrespondenz zur Ausstellung «Paradaidha» von Robert Zandvliet in der Kunsthalle Darmstadt mit Gästen aus Wissenschaft und Kunst. \n\n\n\nMehr unter: www.kunsthalle-darmstadt.de \n\n\nDiskussionsveranstaltung\, Livestream
URL:https://www.museumsfernsehen.de/termin/paradaidha-leibliche-praesenz-in-einer-beschleunigten-welt/
CATEGORIES:Diskussionsveranstaltung,Livestream
ATTACH;FMTTYPE=image/jpeg:https://www.museumsfernsehen.de/wp-content/uploads/2026/04/paradiese-die-erschoepfung-im-haben-anstiftende-wege-aus-dem-irdischen-konsumparadies.jpg
END:VEVENT
END:VCALENDAR