BEGIN:VCALENDAR
VERSION:2.0
PRODID:-//museumsfernsehen - ECPv6.15.20//NONSGML v1.0//EN
CALSCALE:GREGORIAN
METHOD:PUBLISH
X-WR-CALNAME:museumsfernsehen
X-ORIGINAL-URL:https://www.museumsfernsehen.de
X-WR-CALDESC:Veranstaltungen für museumsfernsehen
REFRESH-INTERVAL;VALUE=DURATION:PT1H
X-Robots-Tag:noindex
X-PUBLISHED-TTL:PT1H
BEGIN:VTIMEZONE
TZID:Europe/Berlin
BEGIN:DAYLIGHT
TZOFFSETFROM:+0100
TZOFFSETTO:+0200
TZNAME:CEST
DTSTART:20250330T010000
END:DAYLIGHT
BEGIN:STANDARD
TZOFFSETFROM:+0200
TZOFFSETTO:+0100
TZNAME:CET
DTSTART:20251026T010000
END:STANDARD
BEGIN:DAYLIGHT
TZOFFSETFROM:+0100
TZOFFSETTO:+0200
TZNAME:CEST
DTSTART:20260329T010000
END:DAYLIGHT
BEGIN:STANDARD
TZOFFSETFROM:+0200
TZOFFSETTO:+0100
TZNAME:CET
DTSTART:20261025T010000
END:STANDARD
BEGIN:DAYLIGHT
TZOFFSETFROM:+0100
TZOFFSETTO:+0200
TZNAME:CEST
DTSTART:20270328T010000
END:DAYLIGHT
BEGIN:STANDARD
TZOFFSETFROM:+0200
TZOFFSETTO:+0100
TZNAME:CET
DTSTART:20271031T010000
END:STANDARD
END:VTIMEZONE
BEGIN:VEVENT
DTSTART;TZID=Europe/Berlin:20260421T180000
DTEND;TZID=Europe/Berlin:20260421T180000
DTSTAMP:20260421T012518
CREATED:20260325T161143Z
LAST-MODIFIED:20260325T161143Z
UID:114018-1776794400-1776794400@www.museumsfernsehen.de
SUMMARY:In den Bergen – Insta Live Tour LWL-Museum für Kunst und Kultur
DESCRIPTION:Die Touren finden wöchentlich im Livestream der offiziellen Instagram-Seite des LWL-Museums für Kunst und Kultur statt: \n\n\n\n\nInstagramkanal des LWL-Museums für Kunst und Kultur\n\n\n\nEröffnung\, Livestream
URL:https://www.museumsfernsehen.de/termin/in-den-bergen-insta-live-tour-lwl-museum-fuer-kunst-und-kultur/
CATEGORIES:Online-Führungen
ATTACH;FMTTYPE=image/jpeg:https://www.museumsfernsehen.de/wp-content/uploads/2026/02/LWL-Kunst-und-Kultur.jpg
END:VEVENT
BEGIN:VEVENT
DTSTART;TZID=Europe/Berlin:20260421T183000
DTEND;TZID=Europe/Berlin:20260421T183000
DTSTAMP:20260421T012518
CREATED:20260414T075551Z
LAST-MODIFIED:20260414T080443Z
UID:114379-1776796200-1776796200@www.museumsfernsehen.de
SUMMARY:Paradaidha: Jazz und die Sehnsucht nach den Wurzeln und dem erfüllten Leben
DESCRIPTION:«Jazz und die Sehnsucht nach den Wurzeln und dem erfüllten Leben» \n\n\n\nUnter diesem klangvollen Titel widmet sich der Abend der musikalischen Suche nach unserem inneren Sehnsuchtsort. Wir begrüßen Dr. Bettina Bohle\, Leiterin des Jazz Instituts Darmstadt\, die durch ihr vielseitiges Studium der Musikwissenschaft und Philosophie einen tiefgründigen Erfahrungsschatz mitbringt. Sowohl als Lehrbeauftragte der Universität Hildesheim als auch durch ihre Arbeit als Sprecherin der Bundeskonferenz Jazz und Leiterin des Berliner Umsetzungsprojekts für ein Zentrum für Jazz und improvisierte Musik in Berlin ist sie eine überaus profilierte Stimme in diesem Feld. \n\n\n\nEine Veranstaltungsreihe der Evangelischen Stadtakademie in Korrespondenz zur Ausstellung «Paradaidha» von Robert Zandvliet in der Kunsthalle Darmstadt mit Gästen aus Wissenschaft und Kunst. \n\n\n\nMehr unter: www.kunsthalle-darmstadt.de \n\n\nEröffnung\, Livestream
URL:https://www.museumsfernsehen.de/termin/paradaidha-jazz-und-die-sehnsucht-nach-den-wurzeln-und-dem-erfuellten-leben/
CATEGORIES:Diskussionsveranstaltung,Livestream
ATTACH;FMTTYPE=image/jpeg:https://www.museumsfernsehen.de/wp-content/uploads/2026/04/paradiese-die-erschoepfung-im-haben-anstiftende-wege-aus-dem-irdischen-konsumparadies.jpg
END:VEVENT
BEGIN:VEVENT
DTSTART;TZID=Europe/Berlin:20260421T190000
DTEND;TZID=Europe/Berlin:20260421T190000
DTSTAMP:20260421T012518
CREATED:20260324T124619Z
LAST-MODIFIED:20260324T124623Z
UID:113959-1776798000-1776798000@www.museumsfernsehen.de
SUMMARY:Steinzeit-Gene im digitalen Dauerstress: Warum unser Körper nicht mehr in die Welt passt
DESCRIPTION:Unser Körper ist ein faszinierendes Archiv der Menschheitsgeschichte. Doch während sich unsere Kultur im Eiltempo wandelt\, hinkt unsere Biologie hinterher. Am 21. April 2026 nimmt uns Prof. Dr. Wulf Schiefenhövel mit auf eine Reise durch die Evolutionäre Medizin – eine Disziplin\, die erklärt\, warum manche Krankheiten früher unser Überleben sicherten und uns heute vor unlösbare Rätsel stellen. \n\n\n\nIIm Rahmen der Sonderausstellung „Planetary Health“ im Deutschen Museum beleuchtet der renommierte Anthropologe und Mediziner das Phänomen des „Mismatch“: das Auseinanderklaffen von langsamer biologischer Anpassung und rasanter industrieller Entwicklung. \n\n\n\nWenn Krankheit vor dem Tod schützt: Das Beispiel Sichelzellanämie\n\n\n\nDie Evolutionäre Medizin stellt eine radikale Frage: Warum hat die natürliche Selektion Krankheiten nicht einfach „ausgemerzt“? Die Antwort ist oft verblüffend. \n\n\n\n\nDer Überlebensvorteil: In Malaria-Gebieten verbreitete sich die Sichelzellanämie\, weil die Veränderung der roten Blutkörperchen einen natürlichen Schutz gegen den tödlichen Parasiten bot.\n\n\n\nDer Preis: Was in der Wildnis Leben rettete\, führt unter modernen Bedingungen zu gesundheitlichen Nachteilen. Erst seit 1954 verstehen wir diesen paradoxen Zusammenhang zwischen Gendefekt und Schutzfunktion.\n\n\n\n\nDer „Mismatch“: Wir sind biologische Oldtimer\n\n\n\nVon der Laktoseintoleranz bis zur Glutenunverträglichkeit – viele heutige Leiden sind das Ergebnis einer genetischen Ausstattung\, die für eine Welt optimiert wurde\, die es so nicht mehr gibt. \n\n\n\nFrühkindliche Entwicklung: Die Evolutionäre Medizin untersucht\, wie Geburt und Erziehung heute mit unseren tief verwurzelten biologischen Bedürfnissen kollidieren. \n\n\n\nErnährung & Sucht: Unser Gehirn ist auf die Suche nach seltenen Kalorien (Zucker\, Fett) programmiert. In einer Welt des Überflusses führt dieses Erbe zu Adipositas und Suchtverhalten. \n\n\n\nStressbewältigung: Unsere Stressreaktionen sind für die Flucht vor dem Säbelzahntiger ausgelegt\, nicht für den achtstündigen Büroalltag. Das Ergebnis? Chronische Entzündungen und psychische Belastungen. \n\n\n\nDer Experte: Prof. Dr. Wulf Schiefenhövel\n\n\n\nWulf Schiefenhövel ist kein reiner Theoretiker. Seine Erkenntnisse stammen direkt aus der Praxis und dem Feld: \n\n\n\n\nMax-Planck-Institut: Forscher für Biologische Intelligenz in Seewiesen.\n\n\n\nFeldforschung: Seit den 1960er-Jahren untersucht er ethnomedizinische Praktiken in Papua-Neuguinea und Indonesien – zuletzt im Jahr 2025 bei den Eipo.\n\n\n\nInterdisziplinarität: Er verbindet Medizin\, Anthropologie und Ethnographie zu einem ganzheitlichen Bild des Menschen.\n\n\n\n\nMehr unter: deutsches-museum.de \n\n\nEröffnung\, Livestream
URL:https://www.museumsfernsehen.de/termin/steinzeit-gene-im-digitalen-dauerstress-warum-unser-koerper-nicht-mehr-in-die-welt-passt/
CATEGORIES:Diskussionsveranstaltung,Livestream
ATTACH;FMTTYPE=image/jpeg:https://www.museumsfernsehen.de/wp-content/uploads/2026/03/klimawandel-gesundheit-und-wissenschaft-was-medien-vermitteln-und-wie-wir-darueber-denken.jpg
END:VEVENT
BEGIN:VEVENT
DTSTART;TZID=Europe/Berlin:20260421T190000
DTEND;TZID=Europe/Berlin:20260421T190000
DTSTAMP:20260421T012518
CREATED:20260413T151605Z
LAST-MODIFIED:20260413T151610Z
UID:114337-1776798000-1776798000@www.museumsfernsehen.de
SUMMARY:Franco. Der Ewige Faschist. Buchpräsentation
DESCRIPTION:Buchpräsentation und Gespräch mit Prof. Dr. Till Kössler und Prof. Dr. Stefanie Middendorf \n\n\n\nDer Spanier Francisco Franco (1892–1975) zählt zu den prägenden Diktatoren des 20. Jahrhunderts. Anders als seine Verbündeten Hitler und Mussolini konnte er sich über den Zweiten Weltkrieg hinaus bis 1975 an der Macht halten. Die Einordnung seiner Person und seiner beinahe 40-jährigen Herrschaft in die europäische Zeitgeschichte ist dabei auch heute noch umstritten. Nach 1945 galt er vielen als ewiger Faschist\, der nicht mehr in das neue demokratische Westeuropa passte. Und doch diente er sich der westlichen Welt erfolgreich als Partner an und genoss bis zu seinem Tod 1975 eine beträchtliche Popularität in der spanischen Bevölkerung. \n\n\n\nIn seiner Biografie »Franco. Der ewige Faschist. Eine Biografie« (2025) zeichnet Till Kössler anhand zahlreicher Quellen dessen Karriere nach: von den Anfängen als junger Kolonialoffizier in Marokko über seinen Aufstieg zum faschistischen Alleinherrscher im Spanischen Bürgerkrieg und Verbündeten der Achsenmächte im Zweiten Weltkrieg bis in die Umbruchszeit der 1960er und 1970er Jahre. \n\n\n\nMehr unter: topographie.de \n\n\nEröffnung\, Livestream
URL:https://www.museumsfernsehen.de/termin/franco-der-ewige-faschist-buchpraesentation/
CATEGORIES:Buchvorstellung,Livestream
ATTACH;FMTTYPE=image/jpeg:https://www.museumsfernsehen.de/wp-content/uploads/2026/04/live-franco-der-ewige-faschist.jpg
END:VEVENT
END:VCALENDAR